BEGIN:VCALENDAR
VERSION:2.0
PRODID:-//Waldlust - ECPv5.16.3.1//NONSGML v1.0//EN
CALSCALE:GREGORIAN
METHOD:PUBLISH
X-WR-CALNAME:Waldlust
X-ORIGINAL-URL:https://www.waldlust-brandenburg.de
X-WR-CALDESC:Veranstaltungen für Waldlust
REFRESH-INTERVAL;VALUE=DURATION:PT1H
X-Robots-Tag:noindex
X-PUBLISHED-TTL:PT1H
BEGIN:VTIMEZONE
TZID:UTC
BEGIN:STANDARD
TZOFFSETFROM:+0000
TZOFFSETTO:+0000
TZNAME:UTC
DTSTART:20230101T000000
END:STANDARD
END:VTIMEZONE
BEGIN:VEVENT
DTSTART;TZID=UTC:20230414T160000
DTEND;TZID=UTC:20230415T170000
DTSTAMP:20260423T151804
CREATED:20210816T082130Z
LAST-MODIFIED:20230401T151516Z
UID:1986-1681488000-1681578000@www.waldlust-brandenburg.de
SUMMARY:Schulungsexkursion Spremberg
DESCRIPTION:Einführungsseminar und Exkursion\n\n\n\n\n\nmit den Themenschwerpunkten: \n\n\n\n\nAktuelles: Waldschutz\, Holzmarkt\, Forstpolitik\, Termine\n\n\n\nKlimaprämie: Anforderungen und praktischeUmsetzung\n\n\n\nHolzverkauf: Vertragsgestaltung\, prakt. Beispiele\n\n\n\nNaturverjüngung/Vorausverjüngung:Schlüssel zur Risikominimierung im Forstbetrieb\n\n\n\nAudit Waldklimastandard: Verjüngungsflächenzertifizieren lassen (Förderung CO2-Bindung)\n\n\n\nEXKURSION\n\n\n\n\nReferent Karsten Spinner \n\n\n\n\n\n\n\n\n\nAlle Schulungsthemen und weitereAngebote finden Sie online auf unseremYouTube-Kanal über die Webseiten:www.waldlust-brandenburg.dewww.waldbauern-info.dewww.waldbauernschule-brandenburg.de
URL:https://www.waldlust-brandenburg.de/event/schulungsexkursion-spremberg/
LOCATION:Heimatverein (Konsum)\, Pulsberger Weg 1\, Spremberg OT Terpe\, 03130
CATEGORIES:Exkursion,Fühjahrsschulung,Präsenzseminar
ATTACH;FMTTYPE=image/jpeg:https://www.waldlust-brandenburg.de/wp-content/uploads/2021/01/2021_02_Anstand_Wildschwein_grauenhagen-1.jpg
END:VEVENT
BEGIN:VEVENT
DTSTART;TZID=UTC:20230414T160000
DTEND;TZID=UTC:20230415T170000
DTSTAMP:20260423T151804
CREATED:20220317T152247Z
LAST-MODIFIED:20230401T154347Z
UID:2429-1681488000-1681578000@www.waldlust-brandenburg.de
SUMMARY:Schulungsexkursion Schlieben
DESCRIPTION:Einführungsseminar als Präsenzveranstaltung freitags und Exkursion samstags\n\n\n\n\n\n\nAktuelles: Waldschutz\, Holzmarkt\, Forstpolitik\, Termine\n\n\n\nKlimaprämie: Anforderungen und praktischeUmsetzung\n\n\n\nHolzverkauf: Vertragsgestaltung\, prakt. Beispiele\n\n\n\nNaturverjüngung/Vorausverjüngung:Schlüssel zur Risikominimierung im Forstbetrieb\n\n\n\nAudit Waldklimastandard: Verjüngungsflächenzertifizieren lassen (Förderung CO2-Bindung)\n\n\n\nEXKURSION\n\n\n\n\nReferent Henrik Thode \n\n\n\n\n\n\n\n\n\nVeranstaltungsort
URL:https://www.waldlust-brandenburg.de/event/grundkurs-fuer-neueinsteiger-schlieben/
LOCATION:Gasthof Am Waldesrand\, Dorfstraße 37\, Fichtwald OT Naundorf\, 04936
CATEGORIES:Exkursion,Fühjahrsschulung,Präsenzseminar
ATTACH;FMTTYPE=image/jpeg:https://www.waldlust-brandenburg.de/wp-content/uploads/2021/08/WBS_Anfaenge_Titelbild.jpg
END:VEVENT
BEGIN:VEVENT
DTSTART;TZID=UTC:20230414T160000
DTEND;TZID=UTC:20230415T170000
DTSTAMP:20260423T151804
CREATED:20230401T153429Z
LAST-MODIFIED:20230401T154250Z
UID:3615-1681488000-1681578000@www.waldlust-brandenburg.de
SUMMARY:Schulungsexkursion Dahmetal
DESCRIPTION:Einführungsseminar als Präsenzveranstaltung freitags und Exkursion samstags\n\n\n\n\n\n\nAktuelles: Waldschutz\, Holzmarkt\, Forstpolitik\, Termine\n\n\n\nKlimaprämie: Anforderungen und praktischeUmsetzung\n\n\n\nHolzverkauf: Vertragsgestaltung\, prakt. Beispiele\n\n\n\nNaturverjüngung/Vorausverjüngung:Schlüssel zur Risikominimierung im Forstbetrieb\n\n\n\nAudit Waldklimastandard: Verjüngungsflächenzertifizieren lassen (Förderung CO2-Bindung)\n\n\n\nEXKURSION\n\n\n\n\nReferent Henrik Thode \n\n\n\n\n\n\n\n\n\nVeranstaltungsort
URL:https://www.waldlust-brandenburg.de/event/schulungsexkursion-dahmetal-4/
LOCATION:Vereins- und Gemeindehaus\, Liedekahle 6\, Dahmetal\, 15939
CATEGORIES:Exkursion,Fühjahrsschulung,Präsenzseminar
ATTACH;FMTTYPE=image/jpeg:https://www.waldlust-brandenburg.de/wp-content/uploads/2021/08/WBS_Anfaenge_Titelbild.jpg
END:VEVENT
END:VCALENDAR